BEGIN:VCALENDAR
VERSION:2.0
PRODID:-//Squarespace Inc/Squarespace 6//v6//EN
BEGIN:VEVENT
UID:5fc42e3a1972c46e3c21b7bc@squarespace.com
DTSTAMP:20201130T004118Z
DTSTART:20210306T210000Z
DTEND:20210314T070000Z
SUMMARY:Firefall 2021 Conference 
GEO:-36.87855;174.674026
LOCATION:Encounter Church\, 495 Rosebank Road\, Auckland\, Auckland\, 1026\
 , New Zealand
END:VEVENT
END:VCALENDAR
