BEGIN:VCALENDAR
VERSION:2.0
PRODID:-//Squarespace Inc/Squarespace 6//v6//EN
BEGIN:VEVENT
UID:5facb9f524c06f537363a629@squarespace.com
DTSTAMP:20201123T001425Z
DTSTART:20201128T210000Z
DTEND:20201129T050000Z
SUMMARY:Sunday with Norm McLeod and Sound of Praise International Ministry 
 Worship 
GEO:-36.87855;174.674026
LOCATION:Encounter Church\, 495 Rosebank Road\, Auckland\, Auckland\, 1026\
 , New Zealand
END:VEVENT
END:VCALENDAR
