BEGIN:VCALENDAR
VERSION:2.0
PRODID:-//Squarespace Inc/Squarespace 6//v6//EN
BEGIN:VEVENT
UID:5facb17d9488406ed966bc64@squarespace.com
DTSTAMP:20201118T040541Z
DTSTART:20201121T210000Z
DTEND:20201122T074500Z
SUMMARY:Sunday with Apostle Mike Connell
GEO:-36.87855;174.674026
LOCATION:Encounter Church\, 495 Rosebank Road\, Auckland\, Auckland\, 1026\
 , New Zealand
END:VEVENT
END:VCALENDAR
