BEGIN:VCALENDAR
VERSION:2.0
PRODID:-//Squarespace Inc/Squarespace 6//v6//EN
BEGIN:VEVENT
UID:5fbaf2f891a4ea000ed389ff@squarespace.com
DTSTAMP:20201123T001412Z
DTSTART:20201205T210000Z
DTEND:20201206T050000Z
SUMMARY:Sunday with Apostle Mike Connell - 10am &amp\; 6pm
GEO:-36.87855;174.674026
LOCATION:Encounter Church\, 495 Rosebank Road\, Auckland\, Auckland\, 1026\
 , New Zealand
END:VEVENT
END:VCALENDAR
