BEGIN:VCALENDAR
VERSION:2.0
PRODID:-//Squarespace Inc/Squarespace 6//v6//EN
BEGIN:VEVENT
UID:5facae264cb72305410f15ba@squarespace.com
DTSTAMP:20201112T034442Z
DTSTART:20201119T210000Z
DTEND:20201120T010000Z
SUMMARY:Pastors + Leaders Gathering
GEO:-36.87855;174.674026
LOCATION:Encounter Church\, 495 Rosebank Road\, Auckland\, Auckland\, 1026\
 , New Zealand
END:VEVENT
END:VCALENDAR
