BEGIN:VCALENDAR
VERSION:2.0
PRODID:-//Squarespace Inc/Squarespace 6//v6//EN
BEGIN:VEVENT
UID:5fdfc1dc2629b066abd51080@squarespace.com
DTSTAMP:20201220T212812Z
DTSTART:20210223T220000Z
DTEND:20210223T230000Z
SUMMARY:Cafe is Open 
GEO:-36.87855;174.674026
LOCATION:Encounter Church\, 495 Rosebank Road\, Auckland\, Auckland\, 1026\
 , New Zealand
END:VEVENT
END:VCALENDAR
