BEGIN:VCALENDAR
VERSION:2.0
PRODID:-//Squarespace Inc/Squarespace 6//v6//EN
BEGIN:VEVENT
UID:5fdfc25d463d3b6c6f543e45@squarespace.com
DTSTAMP:20201220T213026Z
DTSTART:20210330T220000Z
DTEND:20210330T230000Z
SUMMARY:Cafe is Open
GEO:-36.87855;174.674026
LOCATION:Encounter Church\, 495 Rosebank Road\, Auckland\, Auckland\, 1026\
 , New Zealand
END:VEVENT
END:VCALENDAR
