BEGIN:VCALENDAR
VERSION:2.0
PRODID:-//Squarespace Inc/Squarespace 6//v6//EN
BEGIN:VEVENT
UID:5fbafaee05f44a5f70972bca@squarespace.com
DTSTAMP:20201123T002647Z
DTSTART:20201224T110000Z
DTEND:20201225T094500Z
SUMMARY:Merry Christmas 
END:VEVENT
END:VCALENDAR
