BEGIN:VCALENDAR
VERSION:2.0
PRODID:-//Squarespace Inc/Squarespace 6//v6//EN
BEGIN:VEVENT
UID:5f6aa1e86b11f00d56c47eb5@squarespace.com
DTSTAMP:20200923T012425Z
DTSTART:20201003T224500Z
DTEND:20201003T233000Z
SUMMARY:OCT — Meet the Pastors
GEO:40.720756;-74.000761
LOCATION:495 Rosebank Road\, Avondale\, Auckland\, New Zealand
END:VEVENT
END:VCALENDAR
