BEGIN:VCALENDAR
VERSION:2.0
PRODID:-//Squarespace Inc/Squarespace 6//v6//EN
BEGIN:VEVENT
UID:5f6aa386a1caaf0042e27580@squarespace.com
DTSTAMP:20201005T002300Z
DTSTART:20201107T224500Z
DTEND:20201107T234500Z
SUMMARY:NOV — Meet the Pastors 
GEO:40.720756;-74.000761
LOCATION:495 Rosebank Road\, Avondale\, Auckland\, New Zealand
END:VEVENT
END:VCALENDAR
