BEGIN:VCALENDAR
VERSION:2.0
PRODID:-//Squarespace Inc/Squarespace 6//v6//EN
BEGIN:VEVENT
UID:5fbad3ba32611c2ac1bd0049@squarespace.com
DTSTAMP:20201122T231136Z
DTSTART:20201124T070000Z
DTEND:20201124T080000Z
SUMMARY:Live with Ap. Norm McLeod + Ps. Brent Douglas
END:VEVENT
END:VCALENDAR
