BEGIN:VCALENDAR
VERSION:2.0
PRODID:-//Squarespace Inc/Squarespace 6//v6//EN
BEGIN:VEVENT
UID:5f6aa3ec70642b5e9023048e@squarespace.com
DTSTAMP:20200923T013102Z
DTSTART:20200927T050000Z
DTEND:20200927T063500Z
SUMMARY:Sunday 6pm - Together again! 
END:VEVENT
END:VCALENDAR
