BEGIN:VCALENDAR
VERSION:2.0
PRODID:-//Squarespace Inc/Squarespace 6//v6//EN
BEGIN:VEVENT
UID:5f42e8d961f8cf24f5ce8c7b@squarespace.com
DTSTAMP:20200922T221816Z
DTSTART:20200929T070000Z
DTEND:20200929T080000Z
SUMMARY:Legalisation of Cannabis - Online Discussion
END:VEVENT
END:VCALENDAR
