BEGIN:VCALENDAR
VERSION:2.0
PRODID:-//Squarespace Inc/Squarespace 6//v6//EN
BEGIN:VEVENT
UID:5fbaf0c85779397619e11ff1@squarespace.com
DTSTAMP:20201123T001201Z
DTSTART:20201212T210000Z
DTEND:20201213T050000Z
SUMMARY:Christmas at Encounter - 10am &amp\; 6pm
GEO:-36.87855;174.674026
LOCATION:Encounter Church\, 495 Rosebank Road\, Auckland\, Auckland\, 1026\
 , New Zealand
END:VEVENT
END:VCALENDAR
