BEGIN:VCALENDAR
VERSION:2.0
PRODID:-//Squarespace Inc/Squarespace 6//v6//EN
BEGIN:VEVENT
UID:5fbaf5819876b8736cdbf5a5@squarespace.com
DTSTAMP:20201123T002808Z
DTSTART:20201219T210000Z
DTEND:20201220T050000Z
SUMMARY:Carols by Glow Stick - 10am &amp\; Christmas Dinner 6pm
GEO:-36.87855;174.674026
LOCATION:Encounter Church\, 495 Rosebank Road\, Auckland\, Auckland\, 1026\
 , New Zealand
END:VEVENT
END:VCALENDAR
