BEGIN:VCALENDAR
VERSION:2.0
PRODID:-//Squarespace Inc/Squarespace 6//v6//EN
BEGIN:VEVENT
UID:5fbaff6158f7584e7155da93@squarespace.com
DTSTAMP:20201123T002854Z
DTSTART:20201226T210000Z
DTEND:20201226T222500Z
SUMMARY:Sunday 27th- 10am only
GEO:-36.87855;174.674026
LOCATION:Encounter Church\, 495 Rosebank Road\, Auckland\, Auckland\, 1026\
 , New Zealand
END:VEVENT
END:VCALENDAR
