BEGIN:VCALENDAR
VERSION:2.0
PRODID:-//Squarespace Inc/Squarespace 6//v6//EN
BEGIN:VEVENT
UID:5fd6a6c4102ca46975ee1fa9@squarespace.com
DTSTAMP:20201214T001903Z
DTSTART:20210116T210000Z
DTEND:20210117T070000Z
SUMMARY:Sunday 17th - 10am &amp\; 6pm
GEO:-36.87855;174.674026
LOCATION:Encounter Church\, 495 Rosebank Road\, Auckland\, Auckland\, 1026\
 , New Zealand
END:VEVENT
END:VCALENDAR
