BEGIN:VCALENDAR
VERSION:2.0
PRODID:-//Squarespace Inc/Squarespace 6//v6//EN
BEGIN:VEVENT
UID:5fd6ab7c0f11661d4c3769e0@squarespace.com
DTSTAMP:20210118T002648Z
DTSTART:20210123T210000Z
DTEND:20210124T070000Z
SUMMARY:Sunday 24th - 10am &amp\; 6pm
GEO:-36.87855;174.674026
LOCATION:Encounter Church\, 495 Rosebank Road\, Auckland\, Auckland\, 1026\
 , New Zealand
END:VEVENT
END:VCALENDAR
