BEGIN:VCALENDAR
VERSION:2.0
PRODID:-//Squarespace Inc/Squarespace 6//v6//EN
BEGIN:VEVENT
UID:5fd6ad9e7fc52c206930658b@squarespace.com
DTSTAMP:20201214T002005Z
DTSTART:20210130T210000Z
DTEND:20210131T063000Z
SUMMARY:Sunday 31st January
GEO:-36.87855;174.674026
LOCATION:Encounter Church\, 495 Rosebank Road\, Auckland\, Auckland\, 1026\
 , New Zealand
END:VEVENT
END:VCALENDAR
