BEGIN:VCALENDAR
VERSION:2.0
PRODID:-//Squarespace Inc/Squarespace 6//v6//EN
BEGIN:VEVENT
UID:5fdfd0fdf3f88b619f2bb6b5@squarespace.com
DTSTAMP:20201220T223449Z
DTSTART:20210320T210000Z
DTEND:20210321T070000Z
SUMMARY:Sunday 21 March 10am &amp\; 6pm
GEO:-36.87855;174.674026
LOCATION:Encounter Church\, 495 Rosebank Road\, Auckland\, Auckland\, 1026\
 , New Zealand
END:VEVENT
END:VCALENDAR
