BEGIN:VCALENDAR
VERSION:2.0
PRODID:-//Squarespace Inc/Squarespace 6//v6//EN
BEGIN:VEVENT
UID:5fdfd2ca7185ee572d690f55@squarespace.com
DTSTAMP:20201220T224137Z
DTSTART:20210417T220000Z
DTEND:20210417T230000Z
SUMMARY:Sunday 18 April 10am &amp\; 6pm
GEO:-36.87855;174.674026
LOCATION:Encounter Church\, 495 Rosebank Road\, Auckland\, Auckland\, 1026\
 , New Zealand
END:VEVENT
END:VCALENDAR
