BEGIN:VCALENDAR
VERSION:2.0
PRODID:-//Squarespace Inc/Squarespace 6//v6//EN
BEGIN:VEVENT
UID:5fbaed213a91a317f3929ac3@squarespace.com
DTSTAMP:20201123T213452Z
DTSTART:20201127T220000Z
DTEND:20201128T020000Z
SUMMARY:Avondale Christmas Carnival
GEO:-36.896367;174.696772
LOCATION:Avondale Central\, 1925 Great North Road\, Auckland\, Auckland\, 1
 026\, New Zealand
END:VEVENT
END:VCALENDAR
