BEGIN:VCALENDAR
VERSION:2.0
PRODID:-//Squarespace Inc/Squarespace 6//v6//EN
BEGIN:VEVENT
UID:5fdff25d0f6c913d4414dda2@squarespace.com
DTSTAMP:20201221T010221Z
DTSTART:20210205T060000Z
DTEND:20210205T083000Z
SUMMARY:Friday Night Youth 
END:VEVENT
END:VCALENDAR
