BEGIN:VCALENDAR
VERSION:2.0
PRODID:-//Squarespace Inc/Squarespace 6//v6//EN
BEGIN:VEVENT
UID:5fdff41d8afbbc2717833315@squarespace.com
DTSTAMP:20201221T011101Z
DTSTART:20210212T060000Z
DTEND:20210212T090000Z
SUMMARY:Friday Night Youth 
END:VEVENT
END:VCALENDAR
