BEGIN:VCALENDAR
VERSION:2.0
PRODID:-//Squarespace Inc/Squarespace 6//v6//EN
BEGIN:VEVENT
UID:5fdff4d28afbbc2717834996@squarespace.com
DTSTAMP:20201221T011236Z
DTSTART:20210226T060000Z
DTEND:20210226T090000Z
SUMMARY:Friday Night Youth
END:VEVENT
END:VCALENDAR
