BEGIN:VCALENDAR
VERSION:2.0
PRODID:-//Squarespace Inc/Squarespace 6//v6//EN
BEGIN:VEVENT
UID:5fdff7d9892c8943b0d2ba00@squarespace.com
DTSTAMP:20201221T012324Z
DTSTART:20210319T060000Z
DTEND:20210319T090000Z
SUMMARY:Friday Night Youth 
END:VEVENT
END:VCALENDAR
