BEGIN:VCALENDAR
VERSION:2.0
PRODID:-//Squarespace Inc/Squarespace 6//v6//EN
BEGIN:VEVENT
UID:5fdff90c7f4e6a3367478a55@squarespace.com
DTSTAMP:20201221T012544Z
DTSTART:20210326T060000Z
DTEND:20210326T090000Z
SUMMARY:Friday Night Youth
END:VEVENT
END:VCALENDAR
