BEGIN:VCALENDAR
VERSION:2.0
PRODID:-//Squarespace Inc/Squarespace 6//v6//EN
BEGIN:VEVENT
UID:5fdff9987514fb3b766c2264@squarespace.com
DTSTAMP:20201221T012934Z
DTSTART:20210409T070000Z
DTEND:20210409T100000Z
SUMMARY:Friday Night Youth 
END:VEVENT
END:VCALENDAR
