BEGIN:VCALENDAR
VERSION:2.0
PRODID:-//Squarespace Inc/Squarespace 6//v6//EN
BEGIN:VEVENT
UID:5fdffa9cf3f88b619f31264a@squarespace.com
DTSTAMP:20201221T013200Z
DTSTART:20210416T070000Z
DTEND:20210416T100000Z
SUMMARY:Friday Night Youth
END:VEVENT
END:VCALENDAR
